BEGIN:VCALENDAR
VERSION:2.0
PRODID:-//Freedom Village of Canada - ECPv6.8.1//NONSGML v1.0//EN
CALSCALE:GREGORIAN
METHOD:PUBLISH
X-ORIGINAL-URL:https://freedomvillageofcanada.com
X-WR-CALDESC:Events for Freedom Village of Canada
REFRESH-INTERVAL;VALUE=DURATION:PT1H
X-Robots-Tag:noindex
X-PUBLISHED-TTL:PT1H
BEGIN:VTIMEZONE
TZID:America/New_York
BEGIN:DAYLIGHT
TZOFFSETFROM:-0500
TZOFFSETTO:-0400
TZNAME:EDT
DTSTART:20220313T070000
END:DAYLIGHT
BEGIN:STANDARD
TZOFFSETFROM:-0400
TZOFFSETTO:-0500
TZNAME:EST
DTSTART:20221106T060000
END:STANDARD
END:VTIMEZONE
BEGIN:VEVENT
DTSTART;TZID=America/New_York:20220604T160000
DTEND;TZID=America/New_York:20220604T200000
DTSTAMP:20260425T001057
CREATED:20170802T121650Z
LAST-MODIFIED:20230416T173601Z
UID:81-1654358400-1654372800@freedomvillageofcanada.com
SUMMARY:Spring Banquet
DESCRIPTION:Annual Spring Banquet\nAt the Old Mill Restaurant \nEvery year one our key events is the spring banquet.   It is a chance for our supporters to get an update on our families and dine together the celebrate the impact Christ has had on our kids. \nTo register\,  please visit this link: \nRegister for the Banquet Here \n 
URL:https://freedomvillageofcanada.com/event/spring-banquet/
LOCATION:St. Joseph’s Banquet & Conference Centre\, 300 River Oaks Blvd East\, Oakville\, Ontario\, L6H 5T1\, Canada
CATEGORIES:Fundraising Events
ATTACH;FMTTYPE=image/jpeg:https://freedomvillageofcanada.com/wp-content/uploads/2017/08/rsz_adobestock_4223616.jpg
ORGANIZER;CN="Freedom Village of Canada":MAILTO:kgallant@freedomcanada.ca
END:VEVENT
END:VCALENDAR